BEGIN:VCALENDAR
VERSION:2.0
PRODID:-//Magyar Fizikushallgatók Egyesülete - ECPv4.4.2//NONSGML v1.0//EN
CALSCALE:GREGORIAN
METHOD:PUBLISH
X-WR-CALNAME:Magyar Fizikushallgatók Egyesülete
X-ORIGINAL-URL:https://mafihe.hu
X-WR-CALDESC:Events for Magyar Fizikushallgatók Egyesülete
BEGIN:VEVENT
DTSTART;TZID=UTC+0:20160131T080000
DTEND;TZID=UTC+0:20160131T170000
DTSTAMP:20260425T162600
CREATED:20160131T203134Z
LAST-MODIFIED:20160131T203134Z
UID:1146-1454227200-1454259600@mafihe.hu
SUMMARY:Teszt
DESCRIPTION:
URL:https://mafihe.hu/event/teszt/
END:VEVENT
END:VCALENDAR