BEGIN:VCALENDAR
VERSION:2.0
PRODID:-//Magyar Fizikushallgatók Egyesülete - ECPv4.4.2//NONSGML v1.0//EN
CALSCALE:GREGORIAN
METHOD:PUBLISH
X-WR-CALNAME:Magyar Fizikushallgatók Egyesülete
X-ORIGINAL-URL:https://mafihe.hu
X-WR-CALDESC:Events for Magyar Fizikushallgatók Egyesülete
BEGIN:VEVENT
DTSTART;VALUE=DATE:20160708
DTEND;VALUE=DATE:20160714
DTSTAMP:20260425T121744
CREATED:20160309T151734Z
LAST-MODIFIED:20160309T151734Z
UID:1197-1467950400-1468468799@mafihe.hu
SUMMARY:Summer school on the Foundations of Quantum Theory.
DESCRIPTION:További információk ezen a linken.\n\nJelentkezési határidő: 2016. április 22.
URL:https://mafihe.hu/event/summer-school-on-the-foundations-of-quantum-theory/
LOCATION:Via G.Polvani\, 4\, Varenna LC\, 23829\, Olaszország
END:VEVENT
END:VCALENDAR