BEGIN:VCALENDAR
VERSION:2.0
PRODID:-//Magyar Fizikushallgatók Egyesülete - ECPv4.4.2//NONSGML v1.0//EN
CALSCALE:GREGORIAN
METHOD:PUBLISH
X-WR-CALNAME:Magyar Fizikushallgatók Egyesülete
X-ORIGINAL-URL:https://mafihe.hu
X-WR-CALDESC:Events for Magyar Fizikushallgatók Egyesülete
BEGIN:VEVENT
DTSTART;TZID=UTC+0:20160415T150000
DTEND;TZID=UTC+0:20160417T170000
DTSTAMP:20260425T145942
CREATED:20160309T143914Z
LAST-MODIFIED:20160309T150242Z
UID:1190-1460732400-1460912400@mafihe.hu
SUMMARY:Pécsi Hétvége
DESCRIPTION:Idén is megrendezzük a Pécsi Hétvégét!\nA programok:\n- Laborlátogatás\n- Zselici Csillagpark\n- Bográcsozás\n- TV-torony\n- Mókázás!\n\nA legfrissebb infókat Facebookon és emailben fogjuk közölni.
URL:https://mafihe.hu/event/pecsi-hetvege/
LOCATION:Ifjúság útja 6.\, Pécs\, 7624\, Magyarország
ORGANIZER;CN="Mafihe%20PHB":MAILTO:phb-elnok@mafihe.hu
END:VEVENT
END:VCALENDAR