BEGIN:VCALENDAR
VERSION:2.0
PRODID:-//Magyar Fizikushallgatók Egyesülete - ECPv4.4.2//NONSGML v1.0//EN
CALSCALE:GREGORIAN
METHOD:PUBLISH
X-WR-CALNAME:Magyar Fizikushallgatók Egyesülete
X-ORIGINAL-URL:https://mafihe.hu
X-WR-CALDESC:Events for Magyar Fizikushallgatók Egyesülete
BEGIN:VEVENT
DTSTART;TZID=UTC+0:20160402T100000
DTEND;TZID=UTC+0:20160402T150000
DTSTAMP:20260425T150039
CREATED:20160310T182742Z
LAST-MODIFIED:20160310T182742Z
UID:1210-1459591200-1459609200@mafihe.hu
SUMMARY:Budapesti Szkeptikus Konferencia
DESCRIPTION:További információ <a href="http://szkeptikus.bme.hu/">ezen az oldalon</a>.
URL:https://mafihe.hu/event/budapesti-szkeptikus-konferencia/
LOCATION: Budafoki út 8.\, Budapest\, 1111\, Magyarország
END:VEVENT
END:VCALENDAR