BEGIN:VCALENDAR
VERSION:2.0
PRODID:-//Magyar Fizikushallgatók Egyesülete - ECPv4.4.2//NONSGML v1.0//EN
CALSCALE:GREGORIAN
METHOD:PUBLISH
X-WR-CALNAME:Magyar Fizikushallgatók Egyesülete
X-ORIGINAL-URL:https://mafihe.hu
X-WR-CALDESC:Events for Magyar Fizikushallgatók Egyesülete
BEGIN:VEVENT
DTSTART;VALUE=DATE:20160304
DTEND;VALUE=DATE:20160307
DTSTAMP:20260425T150014
CREATED:20160309T152908Z
LAST-MODIFIED:20160309T152908Z
UID:1204-1457064000-1457323199@mafihe.hu
SUMMARY:Budapesti Hétvége 2016
DESCRIPTION:Idén tavasszal is megrendezzük az MFHB és EHB közös szervezésű Budapesti Hétvégéjét. A három nap folyamán lehetőségetek lesz az ELTE és a BME laboratóriumait megtekinteni\, összeismerkedni az ország többi fizikushallgatójával és az esti élményfürdőzés közben kikapcsolódni egy kicsit.\n\nSzállás: Eötvös József Collegium 018-as helyiség (1118 Budapest\, Ménesi út 11- 13.)\nSzállás ára: INGYENES (Hálózsákot és polifoam-ot hozzatok!)\n\nTovábbi részleteket az esemény facebook oldalán találhattok.\n\nJelentkezni EZEN a felületen tudtok.
URL:https://mafihe.hu/event/budapesti-hetvege-2016/
LOCATION:Pázmány Péter sétány 1/A\, 3.98 iroda\, Budapest\, 1117\, Magyarország
ORGANIZER;CN="Mafihe%20EHB":MAILTO:ehb-elnok@mafihe.hu
END:VEVENT
END:VCALENDAR