BEGIN:VCALENDAR
VERSION:2.0
PRODID:-//Magyar Fizikushallgatók Egyesülete - ECPv4.4.2//NONSGML v1.0//EN
CALSCALE:GREGORIAN
METHOD:PUBLISH
X-WR-CALNAME:Magyar Fizikushallgatók Egyesülete
X-ORIGINAL-URL:https://mafihe.hu
X-WR-CALDESC:Events for Magyar Fizikushallgatók Egyesülete
BEGIN:VEVENT
DTSTART;VALUE=DATE:20160416
DTEND;VALUE=DATE:20160417
DTSTAMP:20260425T133238
CREATED:20160314T115326Z
LAST-MODIFIED:20160314T115326Z
UID:1228-1460779200-1460865599@mafihe.hu
SUMMARY:A fizika mindenkié 2.0
DESCRIPTION:2016-ban is a A fizika mindenkié!\nTovábbi információ ezen az oldalon.
URL:https://mafihe.hu/event/a-fizika-mindenkie-2-0/
END:VEVENT
END:VCALENDAR